BEGIN:VCALENDAR
VERSION:2.0
PRODID:-//wp-events-plugin.com//7.2.3.1//EN
BEGIN:VEVENT
UID:175@oregonaresd1.us
DTSTART;TZID=America/Los_Angeles;VALUE=DATE:20220924
DTEND;TZID=America/Los_Angeles;VALUE=DATE:20220925
DTSTAMP:20220719T213959Z
URL:https://oregonaresd1.us/events/spokane-hamfest-arrl-washington-state-c
 onvention/
SUMMARY:Spokane Hamfest ARRL Washington State Convention
DESCRIPTION:University High School in the Spokane Valley.   This is an ARR
 L sanctioned event.   http://www.arrl.org/hamfests/spokane-hamfest-arrl-w
 ashington-state-convention    Contact Dave\, K7DSR\, davcarleton@gmail.c
 om\n\n&nbsp\;
ATTACH;FMTTYPE=image/jpeg:https://oregonaresd1.us/wp-content/uploads/2022/
 07/radio-transmitter.webp
CATEGORIES:Spokane Hamfest - ARRL Washington State Convention
END:VEVENT
BEGIN:VTIMEZONE
TZID:America/Los_Angeles
X-LIC-LOCATION:America/Los_Angeles
BEGIN:DAYLIGHT
DTSTART:20220313T030000
TZOFFSETFROM:-0800
TZOFFSETTO:-0700
TZNAME:PDT
END:DAYLIGHT
END:VTIMEZONE
END:VCALENDAR